BEGIN:VCALENDAR
VERSION:2.0
PRODID:-//Sabre//Sabre VObject 4.5.8//EN
CALSCALE:GREGORIAN
BEGIN:VEVENT
UID:sabre-vobject-22ada3b9-6d81-4406-825f-ac5ceb25894a
DTSTAMP:20260420T103850Z
SUMMARY:2025 Annual Bench Press & Endurance Competition
DESCRIPTION:
X-ALT-DESC:FMTTYPE=text/html:<!DOCTYPE HTML PUBLIC "-//W3C//DTD HTML 3.2//E
 N"><HTML></HTML>
CREATED;TZID=Pacific/Honolulu:20250521T090444
URL;VALUE=URI:https://hawaii.armymwr.com/calendar/event
DTSTART;TZID=Pacific/Honolulu:20250521T000000
DTEND;TZID=Pacific/Honolulu:20250718T235959
SEQUENCE:0
END:VEVENT
END:VCALENDAR
