BEGIN:VCALENDAR
VERSION:2.0
PRODID:-//Sabre//Sabre VObject 4.5.8//EN
CALSCALE:GREGORIAN
BEGIN:VEVENT
UID:sabre-vobject-10f33a26-49de-4830-af01-0918bc8b69bf
DTSTAMP:20260419T123009Z
SUMMARY:2025 CORNHOLE Tournament Championships 
DESCRIPTION:Let the games begin....\n
X-ALT-DESC:FMTTYPE=text/html:<!DOCTYPE HTML PUBLIC "-//W3C//DTD HTML 3.2//E
 N"><HTML><p>Let the games begin....</p>\n</HTML>
CREATED;TZID=Pacific/Honolulu:20250522T163043
URL;VALUE=URI:https://hawaii.armymwr.com/calendar/event
DTSTART;TZID=Pacific/Honolulu:20250514T000000
DTEND;TZID=Pacific/Honolulu:20250707T235959
SEQUENCE:0
END:VEVENT
END:VCALENDAR
