BEGIN:VCALENDAR
VERSION:2.0
PRODID:-//Sabre//Sabre VObject 4.5.8//EN
CALSCALE:GREGORIAN
BEGIN:VEVENT
UID:sabre-vobject-605d93e6-4ee4-4365-8e9d-aac8dbf04876
DTSTAMP:20260420T110724Z
SUMMARY:Summer Reading Program with BOSS Program
DESCRIPTION:BOSS @ the library: Make reading a summer goal!\n
X-ALT-DESC:FMTTYPE=text/html:<!DOCTYPE HTML PUBLIC "-//W3C//DTD HTML 3.2//E
 N"><HTML><p>BOSS @ the library: Make reading a summer goal!</p>\n</HTML>
CREATED;TZID=Pacific/Honolulu:20250423T091723
URL;VALUE=URI:https://hawaii.armymwr.com/calendar/event
DTSTART;TZID=Pacific/Honolulu:20250518T000000
DTEND;TZID=Pacific/Honolulu:20250726T235959
SEQUENCE:0
END:VEVENT
END:VCALENDAR
