BEGIN:VCALENDAR
VERSION:2.0
PRODID:-//Sabre//Sabre VObject 4.5.8//EN
CALSCALE:GREGORIAN
BEGIN:VEVENT
UID:sabre-vobject-7a0953c3-9c54-4fde-a813-e2560eb80f0c
DTSTAMP:20260419T135501Z
SUMMARY:Mother's Day Brunch
DESCRIPTION:
X-ALT-DESC:FMTTYPE=text/html:<!DOCTYPE HTML PUBLIC "-//W3C//DTD HTML 3.2//E
 N"><HTML></HTML>
CREATED;TZID=Pacific/Honolulu:20250331T090452
URL;VALUE=URI:https://hawaii.armymwr.com/calendar/event
DTSTART;TZID=Pacific/Honolulu:20250511T090000
DTEND;TZID=Pacific/Honolulu:20250511T130000
SEQUENCE:0
END:VEVENT
END:VCALENDAR
