BEGIN:VCALENDAR
VERSION:2.0
PRODID:-//Sabre//Sabre VObject 4.5.8//EN
CALSCALE:GREGORIAN
BEGIN:VEVENT
UID:sabre-vobject-cdc7d638-0967-46bf-93d1-c10173383876
DTSTAMP:20260419T123010Z
SUMMARY:STRONG BANDS: Aquatics Safety Day
DESCRIPTION:Free introduction to stand up paddle boarding &amp\; ocean kaya
 king.\n
X-ALT-DESC:FMTTYPE=text/html:<!DOCTYPE HTML PUBLIC "-//W3C//DTD HTML 3.2//E
 N"><HTML><p>Free introduction to stand up paddle boarding &amp\; ocean kay
 aking.</p>\n</HTML>
CREATED;TZID=Pacific/Honolulu:20250331T090602
URL;VALUE=URI:https://hawaii.armymwr.com/calendar/event
DTSTART;TZID=Pacific/Honolulu:20250517T110000
DTEND;TZID=Pacific/Honolulu:20250517T140000
SEQUENCE:0
END:VEVENT
END:VCALENDAR
