BEGIN:VCALENDAR
VERSION:2.0
PRODID:-//Sabre//Sabre VObject 4.5.8//EN
CALSCALE:GREGORIAN
BEGIN:VEVENT
UID:sabre-vobject-d96b6d58-b074-49f8-8f6f-56eb80d47ec5
DTSTAMP:20260419T161006Z
SUMMARY:SGT YANO Library: STRONG BANDS Cookbook Book Club 
DESCRIPTION:Gather\, share\, and savor delicious meals while developing you
 r cooking skills!\n
X-ALT-DESC:FMTTYPE=text/html:<!DOCTYPE HTML PUBLIC "-//W3C//DTD HTML 3.2//E
 N"><HTML><p>Gather\, share\, and savor delicious meals while developing yo
 ur cooking skills!</p>\n</HTML>
CREATED;TZID=Pacific/Honolulu:20250401T144411
URL;VALUE=URI:https://hawaii.armymwr.com/calendar/event
DTSTART;TZID=Pacific/Honolulu:20250529T160000
DTEND;TZID=Pacific/Honolulu:20250529T170000
SEQUENCE:0
END:VEVENT
END:VCALENDAR
