BEGIN:VCALENDAR
VERSION:2.0
PRODID:-//Sabre//Sabre VObject 4.5.8//EN
CALSCALE:GREGORIAN
BEGIN:VEVENT
UID:sabre-vobject-70f8d49f-c647-46e2-a03c-5ab429336e16
DTSTAMP:20260420T113615Z
SUMMARY:Family and MWR Columbus Day Hours of Operation
DESCRIPTION:Know Before You Go!\n
X-ALT-DESC:FMTTYPE=text/html:<!DOCTYPE HTML PUBLIC "-//W3C//DTD HTML 3.2//E
 N"><HTML><p>Know Before You Go!</p>\n</HTML>
CREATED;TZID=Pacific/Honolulu:20231005T172927
URL;VALUE=URI:https://hawaii.armymwr.com/calendar/event
DTSTART;TZID=Pacific/Honolulu:20231006T000000
DTEND;TZID=Pacific/Honolulu:20231009T235959
SEQUENCE:0
END:VEVENT
END:VCALENDAR
