BEGIN:VCALENDAR
VERSION:2.0
PRODID:-//Sabre//Sabre VObject 4.5.8//EN
CALSCALE:GREGORIAN
BEGIN:VEVENT
UID:sabre-vobject-f03be1a1-0f06-4c1c-b91e-8ac9220a8dc1
DTSTAMP:20260423T200941Z
SUMMARY:Outdoor Recreation Center: August Programs & Adventures
DESCRIPTION:Check out Outdoor Recreation Center&rsquo\;s August Calendar wh
 ich offers Surf 101 and Kayak 101. Don&rsquo\;t miss out on these amazing 
 opportunities to connect with nature\, learn new skills\, and make unforge
 ttable memories!\n
X-ALT-DESC:FMTTYPE=text/html:<!DOCTYPE HTML PUBLIC "-//W3C//DTD HTML 3.2//E
 N"><HTML><p>Check out Outdoor Recreation Center&rsquo\;s August Calendar w
 hich offers Surf 101 and Kayak 101. Don&rsquo\;t miss out on these amazing
  opportunities to connect with nature\, learn new skills\, and make unforg
 ettable memories!</p>\n</HTML>
CREATED;TZID=Pacific/Honolulu:20230808T103829
URL;VALUE=URI:https://hawaii.armymwr.com/calendar/event
DTSTART;TZID=Pacific/Honolulu:20230812T090000
DTEND;TZID=Pacific/Honolulu:20230812T110000
SEQUENCE:0
END:VEVENT
BEGIN:VEVENT
UID:sabre-vobject-5deaae22-9535-4aea-8663-3026d68e59cb
DTSTAMP:20260423T200941Z
SUMMARY:Outdoor Recreation Center: August Programs & Adventures
DESCRIPTION:Check out Outdoor Recreation Center&rsquo\;s August Calendar wh
 ich offers Surf 101 and Kayak 101. Don&rsquo\;t miss out on these amazing 
 opportunities to connect with nature\, learn new skills\, and make unforge
 ttable memories!\n
X-ALT-DESC:FMTTYPE=text/html:<!DOCTYPE HTML PUBLIC "-//W3C//DTD HTML 3.2//E
 N"><HTML><p>Check out Outdoor Recreation Center&rsquo\;s August Calendar w
 hich offers Surf 101 and Kayak 101. Don&rsquo\;t miss out on these amazing
  opportunities to connect with nature\, learn new skills\, and make unforg
 ettable memories!</p>\n</HTML>
CREATED;TZID=Pacific/Honolulu:20230808T103829
URL;VALUE=URI:https://hawaii.armymwr.com/calendar/event
DTSTART;TZID=Pacific/Honolulu:20230826T090000
DTEND;TZID=Pacific/Honolulu:20230826T110000
SEQUENCE:1
END:VEVENT
END:VCALENDAR
