BEGIN:VCALENDAR
VERSION:2.0
PRODID:-//Sabre//Sabre VObject 4.5.8//EN
CALSCALE:GREGORIAN
BEGIN:VEVENT
UID:sabre-vobject-5b7abea2-ca69-4656-a019-fc1486b5296a
DTSTAMP:20260423T231552Z
SUMMARY:Hale Ikena: Korean Lunch Buffet
DESCRIPTION:Attention all food enthusiasts and Korean cuisine lovers!\n
X-ALT-DESC:FMTTYPE=text/html:<!DOCTYPE HTML PUBLIC "-//W3C//DTD HTML 3.2//E
 N"><HTML><p>Attention all food enthusiasts and Korean cuisine lovers!</p>\
 n</HTML>
CREATED;TZID=Pacific/Honolulu:20230721T104944
URL;VALUE=URI:https://hawaii.armymwr.com/calendar/event
DTSTART;TZID=Pacific/Honolulu:20230808T110000
DTEND;TZID=Pacific/Honolulu:20230808T130000
SEQUENCE:0
END:VEVENT
END:VCALENDAR
