BEGIN:VCALENDAR
VERSION:2.0
PRODID:-//Sabre//Sabre VObject 4.5.8//EN
CALSCALE:GREGORIAN
BEGIN:VEVENT
UID:sabre-vobject-12a80ad1-f28a-474c-960b-6d05e35ef6dc
DTSTAMP:20260420T103848Z
SUMMARY:Hale Ikena: Barbecue Buffet
DESCRIPTION:
X-ALT-DESC:FMTTYPE=text/html:<!DOCTYPE HTML PUBLIC "-//W3C//DTD HTML 3.2//E
 N"><HTML></HTML>
CREATED;TZID=Pacific/Honolulu:20230709T192613
URL;VALUE=URI:https://hawaii.armymwr.com/calendar/event
DTSTART;TZID=Pacific/Honolulu:20230711T110000
DTEND;TZID=Pacific/Honolulu:20230711T130000
SEQUENCE:0
END:VEVENT
END:VCALENDAR
