BEGIN:VCALENDAR
VERSION:2.0
PRODID:-//Sabre//Sabre VObject 4.5.8//EN
CALSCALE:GREGORIAN
BEGIN:VEVENT
UID:sabre-vobject-dffbe583-1d7c-4320-ad2b-41971e4331ca
DTSTAMP:20260420T164000Z
SUMMARY:2023 CYS Soccer Clinic
DESCRIPTION:Here is the perfect opportunity for you kid(s) to learn the fun
 damentals of this fun sport!\n
X-ALT-DESC:FMTTYPE=text/html:<!DOCTYPE HTML PUBLIC "-//W3C//DTD HTML 3.2//E
 N"><HTML><p>Here is the perfect opportunity for you kid(s) to learn the fu
 ndamentals of this fun sport!</p>\n</HTML>
CREATED;TZID=Pacific/Honolulu:20230807T114450
URL;VALUE=URI:https://hawaii.armymwr.com/calendar/event
DTSTART;TZID=Pacific/Honolulu:20230807T000000
DTEND;TZID=Pacific/Honolulu:20230831T235959
SEQUENCE:0
END:VEVENT
BEGIN:VEVENT
UID:sabre-vobject-ce2324b2-fa90-4150-92d1-076e11c882cb
DTSTAMP:20260420T164000Z
SUMMARY:2023 CYS Soccer Clinic
DESCRIPTION:Here is the perfect opportunity for you kid(s) to learn the fun
 damentals of this fun sport!\n
X-ALT-DESC:FMTTYPE=text/html:<!DOCTYPE HTML PUBLIC "-//W3C//DTD HTML 3.2//E
 N"><HTML><p>Here is the perfect opportunity for you kid(s) to learn the fu
 ndamentals of this fun sport!</p>\n</HTML>
CREATED;TZID=Pacific/Honolulu:20230807T114450
URL;VALUE=URI:https://hawaii.armymwr.com/calendar/event
DTSTART;TZID=Pacific/Honolulu:20231007T083000
DTEND;TZID=Pacific/Honolulu:20231007T234500
SEQUENCE:1
END:VEVENT
END:VCALENDAR
