BEGIN:VCALENDAR
VERSION:2.0
PRODID:-//Sabre//Sabre VObject 4.5.8//EN
CALSCALE:GREGORIAN
BEGIN:VEVENT
UID:sabre-vobject-b48d06f7-f010-43be-abcd-cb2a79e5034b
DTSTAMP:20260422T105717Z
SUMMARY:Tropics Recreation Center: Christmas Movie Night "Home Alone"
DESCRIPTION:Customize and enjoy your popcorn while watching one of the&nbsp
 \;classic &amp\; favorite Christmas movies.\n\n&nbsp\;\n
X-ALT-DESC:FMTTYPE=text/html:<!DOCTYPE HTML PUBLIC "-//W3C//DTD HTML 3.2//E
 N"><HTML><p>Customize and enjoy your popcorn while watching one of the&nbs
 p\;classic &amp\; favorite Christmas movies.<br />\n<br />\n&nbsp\;</p>\n<
 /HTML>
CREATED;TZID=Pacific/Honolulu:20221221T145721
URL;VALUE=URI:https://hawaii.armymwr.com/calendar/event
DTSTART;TZID=Pacific/Honolulu:20221222T180000
DTEND;TZID=Pacific/Honolulu:20221222T200000
SEQUENCE:0
END:VEVENT
END:VCALENDAR
