BEGIN:VCALENDAR
VERSION:2.0
PRODID:-//Sabre//Sabre VObject 4.5.8//EN
CALSCALE:GREGORIAN
BEGIN:VEVENT
UID:sabre-vobject-10d1f04a-cd06-47d9-9a64-8481ab7270b2
DTSTAMP:20260422T105719Z
SUMMARY:2023 Army Hawaii Company Level Intramural Basketball League
DESCRIPTION:It&rsquo\;s time to step on the court again and&nbsp\;show what
  you&nbsp\;got!&nbsp\;&nbsp\;\n
X-ALT-DESC:FMTTYPE=text/html:<!DOCTYPE HTML PUBLIC "-//W3C//DTD HTML 3.2//E
 N"><HTML><p>It&rsquo\;s time to step on the court again and&nbsp\;show wha
 t you&nbsp\;got!&nbsp\;&nbsp\;</p>\n</HTML>
CREATED;TZID=Pacific/Honolulu:20221221T145319
URL;VALUE=URI:https://hawaii.armymwr.com/calendar/event
DTSTART;TZID=Pacific/Honolulu:20221221T000000
DTEND;TZID=Pacific/Honolulu:20230106T235959
SEQUENCE:0
END:VEVENT
BEGIN:VEVENT
UID:sabre-vobject-c73e67ac-e542-46d8-ae79-3dfd9a180f3f
DTSTAMP:20260422T105719Z
SUMMARY:2023 Army Hawaii Company Level Intramural Basketball League
DESCRIPTION:It&rsquo\;s time to step on the court again and&nbsp\;show what
  you&nbsp\;got!&nbsp\;&nbsp\;\n
X-ALT-DESC:FMTTYPE=text/html:<!DOCTYPE HTML PUBLIC "-//W3C//DTD HTML 3.2//E
 N"><HTML><p>It&rsquo\;s time to step on the court again and&nbsp\;show wha
 t you&nbsp\;got!&nbsp\;&nbsp\;</p>\n</HTML>
CREATED;TZID=Pacific/Honolulu:20221221T145319
URL;VALUE=URI:https://hawaii.armymwr.com/calendar/event
DTSTART;TZID=Pacific/Honolulu:20230123T000000
DTEND;TZID=Pacific/Honolulu:20230123T235959
SEQUENCE:1
END:VEVENT
END:VCALENDAR
