BEGIN:VCALENDAR
VERSION:2.0
PRODID:-//Sabre//Sabre VObject 4.5.8//EN
CALSCALE:GREGORIAN
BEGIN:VEVENT
UID:sabre-vobject-822afd1f-54b9-4fb4-aa4e-5fc9252e4838
DTSTAMP:20260420T223955Z
SUMMARY:2022 Halloween Festival Spooktacular
DESCRIPTION:Put on your costume and join us for a &quot\;Spooktacular&quot\
 ; good time.\n
X-ALT-DESC:FMTTYPE=text/html:<!DOCTYPE HTML PUBLIC "-//W3C//DTD HTML 3.2//E
 N"><HTML><p>Put on your costume and join us for a &quot\;Spooktacular&quot
 \; good time.</p>\n</HTML>
CREATED;TZID=Pacific/Honolulu:20221007T114441
URL;VALUE=URI:https://hawaii.armymwr.com/calendar/event
DTSTART;TZID=Pacific/Honolulu:20221029T173000
DTEND;TZID=Pacific/Honolulu:20221029T203000
SEQUENCE:0
END:VEVENT
END:VCALENDAR
