BEGIN:VCALENDAR
VERSION:2.0
PRODID:-//Sabre//Sabre VObject 4.5.8//EN
CALSCALE:GREGORIAN
BEGIN:VEVENT
UID:sabre-vobject-a9692cc2-9ff8-4dba-90fd-64c7dcabc405
DTSTAMP:20260420T121234Z
SUMMARY:Hale Ikena Banquet & Conference Center: Oktoberfest Lunch Buffet
DESCRIPTION:Enjoy the taste of Germany.&nbsp\;\n
X-ALT-DESC:FMTTYPE=text/html:<!DOCTYPE HTML PUBLIC "-//W3C//DTD HTML 3.2//E
 N"><HTML><p>Enjoy the taste of Germany.&nbsp\;</p>\n</HTML>
CREATED;TZID=Pacific/Honolulu:20220929T143634
URL;VALUE=URI:https://hawaii.armymwr.com/calendar/event
DTSTART;TZID=Pacific/Honolulu:20221011T113000
DTEND;TZID=Pacific/Honolulu:20221011T133000
SEQUENCE:0
END:VEVENT
END:VCALENDAR
