BEGIN:VCALENDAR
VERSION:2.0
PRODID:-//Sabre//Sabre VObject 4.5.8//EN
CALSCALE:GREGORIAN
BEGIN:VEVENT
UID:sabre-vobject-ba952ffa-99ae-4a52-8a9a-6ffc69a2c1b6
DTSTAMP:20260420T010741Z
SUMMARY:Hale Ikena  Banquet & Conference Center:  Back to School Dinner & M
 agic Show
DESCRIPTION:Kick off this school year with a &quot\;magical&quot\; dinner s
 how!\n
X-ALT-DESC:FMTTYPE=text/html:<!DOCTYPE HTML PUBLIC "-//W3C//DTD HTML 3.2//E
 N"><HTML><p>Kick off this school year with a &quot\;magical&quot\; dinner 
 show!</p>\n</HTML>
CREATED;TZID=Pacific/Honolulu:20220815T085625
URL;VALUE=URI:https://hawaii.armymwr.com/calendar/event
DTSTART;TZID=Pacific/Honolulu:20220909T173000
DTEND;TZID=Pacific/Honolulu:20220909T203000
SEQUENCE:0
END:VEVENT
END:VCALENDAR
