BEGIN:VCALENDAR
VERSION:2.0
PRODID:-//Sabre//Sabre VObject 4.5.8//EN
CALSCALE:GREGORIAN
BEGIN:VEVENT
UID:sabre-vobject-005f38d5-9499-4339-a465-39b62031d929
DTSTAMP:20260425T203233Z
SUMMARY:Bennett Youth Center Open House
DESCRIPTION:Looking for a way to stay productive for your upcoming school y
 ear? Visit&nbsp\;Bennett Youth Center&#39\;s Open House!\n
X-ALT-DESC:FMTTYPE=text/html:<!DOCTYPE HTML PUBLIC "-//W3C//DTD HTML 3.2//E
 N"><HTML><p>Looking for a way to stay productive for your upcoming school 
 year? Visit&nbsp\;Bennett Youth Center&#39\;s Open House!</p>\n</HTML>
CREATED;TZID=Pacific/Honolulu:20220802T113513
URL;VALUE=URI:https://hawaii.armymwr.com/calendar/event
DTSTART;TZID=Pacific/Honolulu:20220804T170000
DTEND;TZID=Pacific/Honolulu:20220804T190000
SEQUENCE:0
END:VEVENT
END:VCALENDAR
