BEGIN:VCALENDAR
VERSION:2.0
PRODID:-//Sabre//Sabre VObject 4.5.8//EN
CALSCALE:GREGORIAN
BEGIN:VEVENT
UID:sabre-vobject-abb3118c-a496-42b8-bdc2-3b5af9ec7aa4
DTSTAMP:20260421T115945Z
SUMMARY:ODR 50th Anniversary Photo Sweepstake
DESCRIPTION:#ARMYODR50 Stop by the Schofield Barracks Outdoor Recreation Ce
 nter to the enter Army&rsquo\;s 50th Anniversary Instagram Photo Sweepstak
 es! &nbsp\;The contest will be active from June to September! Go out\, exp
 lore\, capture memories\, and may the best picture win!\n
X-ALT-DESC:FMTTYPE=text/html:<!DOCTYPE HTML PUBLIC "-//W3C//DTD HTML 3.2//E
 N"><HTML><p>#ARMYODR50 Stop by the Schofield Barracks Outdoor Recreation C
 enter to the enter Army&rsquo\;s 50<sup>th</sup> Anniversary Instagram Pho
 to Sweepstakes! &nbsp\;The contest will be active from June to September! 
 Go out\, explore\, capture memories\, and may the best picture win!</p>\n<
 /HTML>
CREATED;TZID=Pacific/Honolulu:20210526T163557
URL;VALUE=URI:https://hawaii.armymwr.com/calendar/event
DTSTART;TZID=Pacific/Honolulu:20210601T000000
DTEND;TZID=Pacific/Honolulu:20210930T235959
SEQUENCE:0
END:VEVENT
END:VCALENDAR
