BEGIN:VCALENDAR
VERSION:2.0
PRODID:-//Sabre//Sabre VObject 4.5.8//EN
CALSCALE:GREGORIAN
BEGIN:VEVENT
UID:sabre-vobject-34bc2dda-adcd-4cf5-82cb-46b88cdc9275
DTSTAMP:20260422T053920Z
SUMMARY:Pop It Like It's Hot
DESCRIPTION:Enjoy FREE delicious crunchy popcorn!\n
X-ALT-DESC:FMTTYPE=text/html:<!DOCTYPE HTML PUBLIC "-//W3C//DTD HTML 3.2//E
 N"><HTML><h4><span style="display: inline !important\; float: none\; backg
 round-color: rgb(255\, 255\, 255)\; color: rgb(5\, 5\, 5)\; font-family: i
 nherit\; font-size: 14.86px\; font-style: normal\; font-variant: normal\; 
 font-weight: 400\; letter-spacing: normal\; orphans: 2\; text-align: left\
 ; text-decoration: none\; text-indent: 0px\; text-transform: none\; -webki
 t-text-stroke-width: 0px\; white-space: pre-wrap\; word-spacing: 0px\;">En
 joy FREE delicious crunchy popcorn!</span></h4>\n</HTML>
CREATED;TZID=Pacific/Honolulu:20210201T102319
URL;VALUE=URI:https://hawaii.armymwr.com/calendar/event
DTSTART;TZID=Pacific/Honolulu:20210123T190000
DTEND;TZID=Pacific/Honolulu:20210123T210000
SEQUENCE:0
END:VEVENT
END:VCALENDAR
