BEGIN:VCALENDAR
VERSION:2.0
PRODID:-//Sabre//Sabre VObject 4.5.8//EN
CALSCALE:GREGORIAN
BEGIN:VEVENT
UID:sabre-vobject-703d75f6-33ee-43bf-b202-bc20b84ea3fa
DTSTAMP:20260422T182135Z
SUMMARY:Holiday Sweater Day at Schofield Barracks Bowling Center
DESCRIPTION:Jingle Week!\n
X-ALT-DESC:FMTTYPE=text/html:<!DOCTYPE HTML PUBLIC "-//W3C//DTD HTML 3.2//E
 N"><HTML><h2>Jingle Week!</h2>\n</HTML>
CREATED;TZID=Pacific/Honolulu:20201216T071637
URL;VALUE=URI:https://hawaii.armymwr.com/calendar/event
DTSTART;TZID=Pacific/Honolulu:20201220T000000
DTEND;TZID=Pacific/Honolulu:20201220T235959
SEQUENCE:0
END:VEVENT
END:VCALENDAR
