BEGIN:VCALENDAR
VERSION:2.0
PRODID:-//Sabre//Sabre VObject 4.5.8//EN
CALSCALE:GREGORIAN
BEGIN:VEVENT
UID:sabre-vobject-3057190e-66bd-4030-bfee-ff3d42c962aa
DTSTAMP:20260422T165254Z
SUMMARY:Flu Vaccine Event at Tripler
DESCRIPTION:Tripler Army Medical Center will have the flu vaccine available
  for Tricare beneficiaries!\n
X-ALT-DESC:FMTTYPE=text/html:<!DOCTYPE HTML PUBLIC "-//W3C//DTD HTML 3.2//E
 N"><HTML><p><span style="color: rgb(34\, 34\, 34)\; font-family: Arial\, H
 elvetica\, sans-serif\; font-size: small\; font-style: normal\; font-varia
 nt-ligatures: normal\; font-variant-caps: normal\; font-weight: 400\; lett
 er-spacing: normal\; orphans: 2\; text-align: start\; text-indent: 0px\; t
 ext-transform: none\; white-space: normal\; widows: 2\; word-spacing: 0px\
 ; -webkit-text-stroke-width: 0px\; background-color: rgb(255\, 255\, 255)\
 ; text-decoration-style: initial\; text-decoration-color: initial\; displa
 y: inline !important\; float: none\;">Tripler Army Medical Center will hav
 e the flu vaccine available for </span><span style="color: rgb(34\, 34\, 3
 4)\; font-family: Arial\, Helvetica\, sans-serif\; font-size: small\; font
 -style: normal\; font-variant-ligatures: normal\; font-variant-caps: norma
 l\; font-weight: 400\; letter-spacing: normal\; orphans: 2\; text-align: s
 tart\; text-indent: 0px\; text-transform: none\; white-space: normal\; wid
 ows: 2\; word-spacing: 0px\; -webkit-text-stroke-width: 0px\; background-c
 olor: rgb(255\, 255\, 255)\; text-decoration-style: initial\; text-decorat
 ion-color: initial\; display: inline !important\; float: none\;">Tricare b
 eneficiaries!</span></p>\n</HTML>
CREATED;TZID=Pacific/Honolulu:20201117T103928
URL;VALUE=URI:https://hawaii.armymwr.com/calendar/event
DTSTART;TZID=Pacific/Honolulu:20201213T090000
DTEND;TZID=Pacific/Honolulu:20201213T140000
SEQUENCE:0
END:VEVENT
END:VCALENDAR
