BEGIN:VCALENDAR
VERSION:2.0
PRODID:-//Sabre//Sabre VObject 4.5.8//EN
CALSCALE:GREGORIAN
BEGIN:VEVENT
UID:sabre-vobject-22d08993-104a-464c-942c-e4501a432c40
DTSTAMP:20260425T165311Z
SUMMARY:Halloween Guidelines
DESCRIPTION:Trick-or-treating hours\n
X-ALT-DESC:FMTTYPE=text/html:<!DOCTYPE HTML PUBLIC "-//W3C//DTD HTML 3.2//E
 N"><HTML><p><span style="display: inline !important\; float: none\; backgr
 ound-color: rgb(255\, 255\, 255)\; color: rgb(33\, 37\, 41)\; font-family:
  Montserrat\,sans-serif\; font-size: 16px\; font-style: normal\; font-vari
 ant: normal\; font-weight: 400\; letter-spacing: normal\; line-height: 24p
 x\; orphans: 2\; text-align: left\; text-decoration: none\; text-indent: 0
 px\; text-transform: none\; -webkit-text-stroke-width: 0px\; white-space: 
 normal\; word-spacing: 0px\;">Trick-or-treating hours</span></p>\n</HTML>
CREATED;TZID=Pacific/Honolulu:20201019T012526
URL;VALUE=URI:https://hawaii.armymwr.com/calendar/event
DTSTART;TZID=Pacific/Honolulu:20201031T170000
DTEND;TZID=Pacific/Honolulu:20201031T200000
SEQUENCE:0
END:VEVENT
END:VCALENDAR
