BEGIN:VCALENDAR
VERSION:2.0
PRODID:-//Sabre//Sabre VObject 4.5.8//EN
CALSCALE:GREGORIAN
BEGIN:VEVENT
UID:sabre-vobject-efb5a203-084a-474f-b893-a743b4d0375a
DTSTAMP:20260424T192957Z
SUMMARY:Learn to Swim
DESCRIPTION:Swim lessons for kids!\n
X-ALT-DESC:FMTTYPE=text/html:<!DOCTYPE HTML PUBLIC "-//W3C//DTD HTML 3.2//E
 N"><HTML><p>Swim lessons for kids!</p>\n</HTML>
CREATED;TZID=Pacific/Honolulu:20220706T140537
URL;VALUE=URI:https://hawaii.armymwr.com/calendar/event
DTSTART;TZID=Pacific/Honolulu:20220808T090000
DTEND;TZID=Pacific/Honolulu:20220819T170000
SEQUENCE:0
END:VEVENT
BEGIN:VEVENT
UID:sabre-vobject-45f4a82f-c63a-41ad-8b18-fa6c0a97e42c
DTSTAMP:20260424T192957Z
SUMMARY:Learn to Swim
DESCRIPTION:Swim lessons for kids!\n
X-ALT-DESC:FMTTYPE=text/html:<!DOCTYPE HTML PUBLIC "-//W3C//DTD HTML 3.2//E
 N"><HTML><p>Swim lessons for kids!</p>\n</HTML>
CREATED;TZID=Pacific/Honolulu:20220706T140537
URL;VALUE=URI:https://hawaii.armymwr.com/calendar/event
DTSTART;TZID=Pacific/Honolulu:20220919T090000
DTEND;TZID=Pacific/Honolulu:20220919T170000
SEQUENCE:1
END:VEVENT
END:VCALENDAR
