BEGIN:VCALENDAR
VERSION:2.0
PRODID:-//Sabre//Sabre VObject 4.5.8//EN
CALSCALE:GREGORIAN
BEGIN:VEVENT
UID:sabre-vobject-242f5cd6-8917-4492-ad7b-f214101e71ba
DTSTAMP:20260420T103849Z
SUMMARY:Paint & Pa'ina at Hale Ikena
DESCRIPTION:
X-ALT-DESC:FMTTYPE=text/html:<!DOCTYPE HTML PUBLIC "-//W3C//DTD HTML 3.2//E
 N"><HTML></HTML>
CREATED;TZID=Pacific/Honolulu:20200225T124243
URL;VALUE=URI:https://hawaii.armymwr.com/calendar/event
DTSTART;TZID=Pacific/Honolulu:20200227T180000
DTEND;TZID=Pacific/Honolulu:20200227T200000
SEQUENCE:0
END:VEVENT
END:VCALENDAR
