BEGIN:VCALENDAR
VERSION:2.0
PRODID:-//Sabre//Sabre VObject 4.5.8//EN
CALSCALE:GREGORIAN
BEGIN:VEVENT
UID:sabre-vobject-8735512b-bdda-47cf-ac1b-b65c35410f44
DTSTAMP:20260419T172341Z
SUMMARY:10 Steps to a Federal Job
DESCRIPTION:Understand how to get hired by the federal government.
X-ALT-DESC:FMTTYPE=text/html:<!DOCTYPE HTML PUBLIC "-//W3C//DTD HTML 3.2//E
 N"><HTML>Understand how to get hired by the federal government.</HTML>
CREATED;TZID=Pacific/Honolulu:20170913T134254
URL;VALUE=URI:https://hawaii.armymwr.com/calendar/event
DTSTART;TZID=Pacific/Honolulu:20160824T130000
DTEND;TZID=Pacific/Honolulu:20160824T160000
SEQUENCE:0
END:VEVENT
END:VCALENDAR
