BEGIN:VCALENDAR
VERSION:2.0
PRODID:-//Sabre//Sabre VObject 4.5.8//EN
CALSCALE:GREGORIAN
BEGIN:VEVENT
UID:sabre-vobject-cbd1ed1c-568a-43d5-be30-8aba4c72ef17
DTSTAMP:20260420T104611Z
SUMMARY:OPOC (Organizational Point of Contact) VMIS Management
DESCRIPTION:Learn to navigate VMIS as an Organizational Point of Contact.
X-ALT-DESC:FMTTYPE=text/html:<!DOCTYPE HTML PUBLIC "-//W3C//DTD HTML 3.2//E
 N"><HTML>Learn to navigate VMIS as an Organizational Point of Contact.</HT
 ML>
CREATED;TZID=Pacific/Honolulu:20170913T134254
URL;VALUE=URI:https://hawaii.armymwr.com/calendar/event
DTSTART;TZID=Pacific/Honolulu:20160803T100000
DTEND;TZID=Pacific/Honolulu:20160803T113000
SEQUENCE:0
END:VEVENT
END:VCALENDAR
