BEGIN:VCALENDAR
VERSION:2.0
PRODID:-//Sabre//Sabre VObject 4.5.8//EN
CALSCALE:GREGORIAN
BEGIN:VEVENT
UID:sabre-vobject-89888ad0-f114-4e2e-a672-8986bb724176
DTSTAMP:20260424T162750Z
SUMMARY:Smash Bro's
DESCRIPTION:
X-ALT-DESC:FMTTYPE=text/html:<!DOCTYPE HTML PUBLIC "-//W3C//DTD HTML 3.2//E
 N"><HTML></HTML>
CREATED;TZID=Pacific/Honolulu:20191015T135239
URL;VALUE=URI:https://hawaii.armymwr.com/calendar/event
DTSTART;TZID=Pacific/Honolulu:20191026T180000
DTEND;TZID=Pacific/Honolulu:20191026T233000
SEQUENCE:0
END:VEVENT
END:VCALENDAR
