BEGIN:VCALENDAR
VERSION:2.0
PRODID:-//Sabre//Sabre VObject 4.5.8//EN
CALSCALE:GREGORIAN
BEGIN:VEVENT
UID:sabre-vobject-125bf19d-3625-4052-968a-82844b6cf9d3
DTSTAMP:20260424T190743Z
SUMMARY:B.O.S.S. Monthly Hike
DESCRIPTION:
X-ALT-DESC:FMTTYPE=text/html:<!DOCTYPE HTML PUBLIC "-//W3C//DTD HTML 3.2//E
 N"><HTML></HTML>
CREATED;TZID=Pacific/Honolulu:20191015T134722
URL;VALUE=URI:https://hawaii.armymwr.com/calendar/event
DTSTART;TZID=Pacific/Honolulu:20191026T090000
DTEND;TZID=Pacific/Honolulu:20191026T140000
SEQUENCE:0
END:VEVENT
END:VCALENDAR
