BEGIN:VCALENDAR
VERSION:2.0
PRODID:-//Sabre//Sabre VObject 4.5.8//EN
CALSCALE:GREGORIAN
BEGIN:VEVENT
UID:sabre-vobject-e51bafc8-1e58-4250-834a-7853713dbc5d
DTSTAMP:20260424T190744Z
SUMMARY:Sleepy Hallow Night Right
DESCRIPTION:
X-ALT-DESC:FMTTYPE=text/html:<!DOCTYPE HTML PUBLIC "-//W3C//DTD HTML 3.2//E
 N"><HTML></HTML>
CREATED;TZID=Pacific/Honolulu:20191001T132544
URL;VALUE=URI:https://hawaii.armymwr.com/calendar/event
DTSTART;TZID=Pacific/Honolulu:20191026T173000
DTEND;TZID=Pacific/Honolulu:20191026T213000
SEQUENCE:0
END:VEVENT
END:VCALENDAR
