BEGIN:VCALENDAR
VERSION:2.0
PRODID:-//Sabre//Sabre VObject 4.5.8//EN
CALSCALE:GREGORIAN
BEGIN:VEVENT
UID:sabre-vobject-a5e19bcf-3994-4945-b2e6-c6d28473a6ec
DTSTAMP:20260425T011411Z
SUMMARY:Paint & Sip
DESCRIPTION:
X-ALT-DESC:FMTTYPE=text/html:<!DOCTYPE HTML PUBLIC "-//W3C//DTD HTML 3.2//E
 N"><HTML></HTML>
CREATED;TZID=Pacific/Honolulu:20190920T102454
URL;VALUE=URI:https://hawaii.armymwr.com/calendar/event
DTSTART;TZID=Pacific/Honolulu:20191011T190000
DTEND;TZID=Pacific/Honolulu:20191011T210000
SEQUENCE:0
END:VEVENT
END:VCALENDAR
