BEGIN:VCALENDAR
VERSION:2.0
PRODID:-//Sabre//Sabre VObject 4.5.8//EN
CALSCALE:GREGORIAN
BEGIN:VEVENT
UID:sabre-vobject-9ec59ce8-688d-4768-bc05-b19217657230
DTSTAMP:20260426T014508Z
SUMMARY:Family Night at Arts & Crafts
DESCRIPTION:
X-ALT-DESC:FMTTYPE=text/html:<!DOCTYPE HTML PUBLIC "-//W3C//DTD HTML 3.2//E
 N"><HTML></HTML>
CREATED;TZID=Pacific/Honolulu:20190910T103807
URL;VALUE=URI:https://hawaii.armymwr.com/calendar/event
DTSTART;TZID=Pacific/Honolulu:20190921T163000
DTEND;TZID=Pacific/Honolulu:20190921T183000
SEQUENCE:0
END:VEVENT
END:VCALENDAR
