BEGIN:VCALENDAR
VERSION:2.0
PRODID:-//Sabre//Sabre VObject 4.5.8//EN
CALSCALE:GREGORIAN
BEGIN:VEVENT
UID:sabre-vobject-204480ff-b58c-4517-b6ee-804c8c4af53b
DTSTAMP:20260424T070846Z
SUMMARY:Family Scavenger Hunt (Yano Library)
DESCRIPTION:
X-ALT-DESC:FMTTYPE=text/html:<!DOCTYPE HTML PUBLIC "-//W3C//DTD HTML 3.2//E
 N"><HTML></HTML>
CREATED;TZID=Pacific/Honolulu:20190906T101946
URL;VALUE=URI:https://hawaii.armymwr.com/calendar/event
DTSTART;TZID=Pacific/Honolulu:20191022T180000
DTEND;TZID=Pacific/Honolulu:20191022T191500
SEQUENCE:0
END:VEVENT
BEGIN:VEVENT
UID:sabre-vobject-964bb3d0-acb8-4b2c-9b58-5d6c50cd51e5
DTSTAMP:20260424T070846Z
SUMMARY:Family Scavenger Hunt (Yano Library)
DESCRIPTION:
X-ALT-DESC:FMTTYPE=text/html:<!DOCTYPE HTML PUBLIC "-//W3C//DTD HTML 3.2//E
 N"><HTML></HTML>
CREATED;TZID=Pacific/Honolulu:20190906T101946
URL;VALUE=URI:https://hawaii.armymwr.com/calendar/event
DTSTART;TZID=Pacific/Honolulu:20191112T180000
DTEND;TZID=Pacific/Honolulu:20191112T191500
SEQUENCE:1
END:VEVENT
END:VCALENDAR
