BEGIN:VCALENDAR
VERSION:2.0
PRODID:-//Sabre//Sabre VObject 4.5.8//EN
CALSCALE:GREGORIAN
BEGIN:VEVENT
UID:sabre-vobject-888ca02f-97f0-4029-b326-fae1f48c232d
DTSTAMP:20260426T024138Z
SUMMARY:Wurst 5K
DESCRIPTION:
X-ALT-DESC:FMTTYPE=text/html:<!DOCTYPE HTML PUBLIC "-//W3C//DTD HTML 3.2//E
 N"><HTML></HTML>
CREATED;TZID=Pacific/Honolulu:20191101T220359
URL;VALUE=URI:https://hawaii.armymwr.com/calendar/event
DTSTART;TZID=Pacific/Honolulu:20190928T170000
DTEND;TZID=Pacific/Honolulu:20190928T220000
SEQUENCE:0
END:VEVENT
END:VCALENDAR
