BEGIN:VCALENDAR
VERSION:2.0
PRODID:-//Sabre//Sabre VObject 4.5.8//EN
CALSCALE:GREGORIAN
BEGIN:VEVENT
UID:sabre-vobject-96dc67d4-35db-487c-84b9-086549cf5040
DTSTAMP:20260425T203233Z
SUMMARY:Leilehua Concert Series
DESCRIPTION:Contact Leilehua Golf Course for details.\n
X-ALT-DESC:FMTTYPE=text/html:<!DOCTYPE HTML PUBLIC "-//W3C//DTD HTML 3.2//E
 N"><HTML><p>Contact Leilehua Golf Course for details.</p>\n</HTML>
CREATED;TZID=Pacific/Honolulu:20190712T132810
URL;VALUE=URI:https://hawaii.armymwr.com/calendar/event
DTSTART;TZID=Pacific/Honolulu:20190927T180000
DTEND;TZID=Pacific/Honolulu:20190927T210000
SEQUENCE:0
END:VEVENT
END:VCALENDAR
