BEGIN:VCALENDAR
VERSION:2.0
PRODID:-//Sabre//Sabre VObject 4.5.8//EN
CALSCALE:GREGORIAN
BEGIN:VEVENT
UID:sabre-vobject-9de6d4ce-6db7-4e55-b22c-61ddf4d34d84
DTSTAMP:20260426T014942Z
SUMMARY:May Outdoor Recreation Program Calendar
DESCRIPTION:
X-ALT-DESC:FMTTYPE=text/html:<!DOCTYPE HTML PUBLIC "-//W3C//DTD HTML 3.2//E
 N"><HTML></HTML>
CREATED;TZID=Pacific/Honolulu:20260407T141428
URL;VALUE=URI:https://hawaii.armymwr.com/calendar/event
DTSTART;TZID=Pacific/Honolulu:20260501T000000
DTEND;TZID=Pacific/Honolulu:20260530T235959
SEQUENCE:0
END:VEVENT
END:VCALENDAR
