BEGIN:VCALENDAR
VERSION:2.0
PRODID:-//Sabre//Sabre VObject 4.5.8//EN
CALSCALE:GREGORIAN
BEGIN:VEVENT
UID:sabre-vobject-41926c94-e823-4004-97cd-6292d62f49eb
DTSTAMP:20260425T204047Z
SUMMARY:Outdoor Recreation: Pau Hana: Blitz Ball Pickup Game
DESCRIPTION:
X-ALT-DESC:FMTTYPE=text/html:<!DOCTYPE HTML PUBLIC "-//W3C//DTD HTML 3.2//E
 N"><HTML></HTML>
CREATED;TZID=Pacific/Honolulu:20260116T103322
URL;VALUE=URI:https://hawaii.armymwr.com/calendar/event
DTSTART;TZID=Pacific/Honolulu:20260220T153000
DTEND;TZID=Pacific/Honolulu:20260220T163000
SEQUENCE:0
END:VEVENT
END:VCALENDAR
